BEGIN:VCALENDAR
VERSION:2.0
PRODID:-//Andersen-Hüs - ECPv6.15.20//NONSGML v1.0//EN
CALSCALE:GREGORIAN
METHOD:PUBLISH
X-ORIGINAL-URL:https://andersen-hues.de
X-WR-CALDESC:Veranstaltungen für Andersen-Hüs
REFRESH-INTERVAL;VALUE=DURATION:PT1H
X-Robots-Tag:noindex
X-PUBLISHED-TTL:PT1H
BEGIN:VTIMEZONE
TZID:Europe/Berlin
BEGIN:DAYLIGHT
TZOFFSETFROM:+0100
TZOFFSETTO:+0200
TZNAME:CEST
DTSTART:20240331T010000
END:DAYLIGHT
BEGIN:STANDARD
TZOFFSETFROM:+0200
TZOFFSETTO:+0100
TZNAME:CET
DTSTART:20241027T010000
END:STANDARD
BEGIN:DAYLIGHT
TZOFFSETFROM:+0100
TZOFFSETTO:+0200
TZNAME:CEST
DTSTART:20250330T010000
END:DAYLIGHT
BEGIN:STANDARD
TZOFFSETFROM:+0200
TZOFFSETTO:+0100
TZNAME:CET
DTSTART:20251026T010000
END:STANDARD
BEGIN:DAYLIGHT
TZOFFSETFROM:+0100
TZOFFSETTO:+0200
TZNAME:CEST
DTSTART:20260329T010000
END:DAYLIGHT
BEGIN:STANDARD
TZOFFSETFROM:+0200
TZOFFSETTO:+0100
TZNAME:CET
DTSTART:20261025T010000
END:STANDARD
END:VTIMEZONE
BEGIN:VEVENT
DTSTART;TZID=Europe/Berlin:20251104T200000
DTEND;TZID=Europe/Berlin:20251104T213000
DTSTAMP:20260426T043019
CREATED:20250728T085445Z
LAST-MODIFIED:20250812T075856Z
UID:10000168-1762286400-1762291800@andersen-hues.de
SUMMARY:Theatergruppe "De Plattdütschen"
DESCRIPTION:De Plattdütschen speelen 2025\n„WG-Wohnsinn“ von Claudia Gysel\nLilo (Kerrin Eggers) \, Evi (Alice Gonnsen) und Franz (Karl-Hermann Schmidt) alle drei nicht mehr ganz jung \, teilen sich seit Jahren eine WG. Sie sind beste Freude und haben leider alle mit dem jeweils anderen Geschlecht nicht wirklich Glück.\nDas suchen sie dann im Glücksspiel. Sie spielen seit vielen Jahren gemeinsam Lotto\, allerdings mit genauso wenig Erfolg.\nDoch dann schlägt das Glück zu: Ein Lottogewinn und eine unerwartet fette Erbschaft. Da aber beide Glückfälle auf unglückselige Weise miteinander verknüpft sind\, verhalten sich die WG-Bewohner/innen plötzlich alle etwas seltsam.\nIn dieses Durcheinander platzen dann auch noch die Erbtante von Fanz Hermine (Tina Koplin) \, der Beauftragte vom Nachlassgericht Oskar Müller (Hauke Friedrichsen) und der Chat Partner von Evi (Daniel Krützfeld).\nOb die WG wieder in ruhigeres Wasser kommt\, ist abzuwarten. Das kann man sich im Andersen Haus in Klockries an folgenden Terminen ansehen.\nAls Topuster ist Silke Friedrichsen dabei.\n\nMittwoch\, 15.10.2025 um 20.00 Uhr öffentliche Generalprobe\n\nSonntag\, 19.10.2025 um 15.30 Uhr Premiere\nDonerstag\, 23.10.2025 um 20.00 Uhr\nSonntag\, 26.10.2025 um 15.30 Uhr\nMittwoch\, 29.10.2025 um 20.00 Uhr\nSonntag\, 02.11.2025 um 15.30 Uhr\nDienstag\, 04.11.2025 um 20.00 Uhr\nSonntag\, 09.11.2025 um 15.30 Uhr\nMittwoch\, 12.11.2025 um 20.00 Uhr\nSonntag\, 16.11.2025 um 15.30 Uhr\nDonnerstag\, 20.11.2025 um 20.00 Uhr\nSamstag\, 22.11.2025 um 15.30 Uhr\nSamstag\, 29.11.2025 um 15.30 Uhr\nSonntag\, 30.11.2025 um 15.30 Uhr\n\nEinlass ist am Wochenende ab 14.00 Uhr und Abends ab 19.00 Uhr.\n\nDie Platzkarten kosten unverändert 5 Euro und sind bei folgenden Verkaufsstellen zu erwerben (bitte bestellte Karten auch abholen )\nBäckerpost Brigitte Jannsen\, Risum-Lindholm\nBücherstube Dennis Leu\, Niebüll\nAndersen Haus Büro 04661-2291 Mo\, Di\, Do\, Fr. von 9.00 – 11.00 Uhr\noder per E-Mail\n\nWir freuen uns auf die kommende Saison und auf euch\nDe Plattdütschen\nKartenvorverkauf ab September 2025
URL:https://andersen-hues.de/veranstaltung/theatergruppe-de-plattduetschen/2025-11-04/
LOCATION:Andersen-Hüs
CATEGORIES:Theater
ATTACH;FMTTYPE=image/jpeg:https://andersen-hues.de/wp-content/uploads/IMG_3556.jpg-Internet.jpg
END:VEVENT
BEGIN:VEVENT
DTSTART;TZID=Europe/Berlin:20251102T153000
DTEND;TZID=Europe/Berlin:20251102T170000
DTSTAMP:20260426T043019
CREATED:20250728T085445Z
LAST-MODIFIED:20250812T075856Z
UID:10000167-1762097400-1762102800@andersen-hues.de
SUMMARY:Theatergruppe "De Plattdütschen"
DESCRIPTION:De Plattdütschen speelen 2025\n„WG-Wohnsinn“ von Claudia Gysel\nLilo (Kerrin Eggers) \, Evi (Alice Gonnsen) und Franz (Karl-Hermann Schmidt) alle drei nicht mehr ganz jung \, teilen sich seit Jahren eine WG. Sie sind beste Freude und haben leider alle mit dem jeweils anderen Geschlecht nicht wirklich Glück.\nDas suchen sie dann im Glücksspiel. Sie spielen seit vielen Jahren gemeinsam Lotto\, allerdings mit genauso wenig Erfolg.\nDoch dann schlägt das Glück zu: Ein Lottogewinn und eine unerwartet fette Erbschaft. Da aber beide Glückfälle auf unglückselige Weise miteinander verknüpft sind\, verhalten sich die WG-Bewohner/innen plötzlich alle etwas seltsam.\nIn dieses Durcheinander platzen dann auch noch die Erbtante von Fanz Hermine (Tina Koplin) \, der Beauftragte vom Nachlassgericht Oskar Müller (Hauke Friedrichsen) und der Chat Partner von Evi (Daniel Krützfeld).\nOb die WG wieder in ruhigeres Wasser kommt\, ist abzuwarten. Das kann man sich im Andersen Haus in Klockries an folgenden Terminen ansehen.\nAls Topuster ist Silke Friedrichsen dabei.\n\nMittwoch\, 15.10.2025 um 20.00 Uhr öffentliche Generalprobe\n\nSonntag\, 19.10.2025 um 15.30 Uhr Premiere\nDonerstag\, 23.10.2025 um 20.00 Uhr\nSonntag\, 26.10.2025 um 15.30 Uhr\nMittwoch\, 29.10.2025 um 20.00 Uhr\nSonntag\, 02.11.2025 um 15.30 Uhr\nDienstag\, 04.11.2025 um 20.00 Uhr\nSonntag\, 09.11.2025 um 15.30 Uhr\nMittwoch\, 12.11.2025 um 20.00 Uhr\nSonntag\, 16.11.2025 um 15.30 Uhr\nDonnerstag\, 20.11.2025 um 20.00 Uhr\nSamstag\, 22.11.2025 um 15.30 Uhr\nSamstag\, 29.11.2025 um 15.30 Uhr\nSonntag\, 30.11.2025 um 15.30 Uhr\n\nEinlass ist am Wochenende ab 14.00 Uhr und Abends ab 19.00 Uhr.\n\nDie Platzkarten kosten unverändert 5 Euro und sind bei folgenden Verkaufsstellen zu erwerben (bitte bestellte Karten auch abholen )\nBäckerpost Brigitte Jannsen\, Risum-Lindholm\nBücherstube Dennis Leu\, Niebüll\nAndersen Haus Büro 04661-2291 Mo\, Di\, Do\, Fr. von 9.00 – 11.00 Uhr\noder per E-Mail\n\nWir freuen uns auf die kommende Saison und auf euch\nDe Plattdütschen\nKartenvorverkauf ab September 2025
URL:https://andersen-hues.de/veranstaltung/theatergruppe-de-plattduetschen/2025-11-02/
LOCATION:Andersen-Hüs
CATEGORIES:Theater
ATTACH;FMTTYPE=image/jpeg:https://andersen-hues.de/wp-content/uploads/IMG_3556.jpg-Internet.jpg
END:VEVENT
BEGIN:VEVENT
DTSTART;TZID=Europe/Berlin:20251029T200000
DTEND;TZID=Europe/Berlin:20251029T213000
DTSTAMP:20260426T043019
CREATED:20250728T085445Z
LAST-MODIFIED:20250812T075856Z
UID:10000166-1761768000-1761773400@andersen-hues.de
SUMMARY:Theatergruppe "De Plattdütschen"
DESCRIPTION:De Plattdütschen speelen 2025\n„WG-Wohnsinn“ von Claudia Gysel\nLilo (Kerrin Eggers) \, Evi (Alice Gonnsen) und Franz (Karl-Hermann Schmidt) alle drei nicht mehr ganz jung \, teilen sich seit Jahren eine WG. Sie sind beste Freude und haben leider alle mit dem jeweils anderen Geschlecht nicht wirklich Glück.\nDas suchen sie dann im Glücksspiel. Sie spielen seit vielen Jahren gemeinsam Lotto\, allerdings mit genauso wenig Erfolg.\nDoch dann schlägt das Glück zu: Ein Lottogewinn und eine unerwartet fette Erbschaft. Da aber beide Glückfälle auf unglückselige Weise miteinander verknüpft sind\, verhalten sich die WG-Bewohner/innen plötzlich alle etwas seltsam.\nIn dieses Durcheinander platzen dann auch noch die Erbtante von Fanz Hermine (Tina Koplin) \, der Beauftragte vom Nachlassgericht Oskar Müller (Hauke Friedrichsen) und der Chat Partner von Evi (Daniel Krützfeld).\nOb die WG wieder in ruhigeres Wasser kommt\, ist abzuwarten. Das kann man sich im Andersen Haus in Klockries an folgenden Terminen ansehen.\nAls Topuster ist Silke Friedrichsen dabei.\n\nMittwoch\, 15.10.2025 um 20.00 Uhr öffentliche Generalprobe\n\nSonntag\, 19.10.2025 um 15.30 Uhr Premiere\nDonerstag\, 23.10.2025 um 20.00 Uhr\nSonntag\, 26.10.2025 um 15.30 Uhr\nMittwoch\, 29.10.2025 um 20.00 Uhr\nSonntag\, 02.11.2025 um 15.30 Uhr\nDienstag\, 04.11.2025 um 20.00 Uhr\nSonntag\, 09.11.2025 um 15.30 Uhr\nMittwoch\, 12.11.2025 um 20.00 Uhr\nSonntag\, 16.11.2025 um 15.30 Uhr\nDonnerstag\, 20.11.2025 um 20.00 Uhr\nSamstag\, 22.11.2025 um 15.30 Uhr\nSamstag\, 29.11.2025 um 15.30 Uhr\nSonntag\, 30.11.2025 um 15.30 Uhr\n\nEinlass ist am Wochenende ab 14.00 Uhr und Abends ab 19.00 Uhr.\n\nDie Platzkarten kosten unverändert 5 Euro und sind bei folgenden Verkaufsstellen zu erwerben (bitte bestellte Karten auch abholen )\nBäckerpost Brigitte Jannsen\, Risum-Lindholm\nBücherstube Dennis Leu\, Niebüll\nAndersen Haus Büro 04661-2291 Mo\, Di\, Do\, Fr. von 9.00 – 11.00 Uhr\noder per E-Mail\n\nWir freuen uns auf die kommende Saison und auf euch\nDe Plattdütschen\nKartenvorverkauf ab September 2025
URL:https://andersen-hues.de/veranstaltung/theatergruppe-de-plattduetschen/2025-10-29/
LOCATION:Andersen-Hüs
CATEGORIES:Theater
ATTACH;FMTTYPE=image/jpeg:https://andersen-hues.de/wp-content/uploads/IMG_3556.jpg-Internet.jpg
END:VEVENT
BEGIN:VEVENT
DTSTART;TZID=Europe/Berlin:20251026T153000
DTEND;TZID=Europe/Berlin:20251026T170000
DTSTAMP:20260426T043019
CREATED:20250728T085445Z
LAST-MODIFIED:20250812T075856Z
UID:10000165-1761492600-1761498000@andersen-hues.de
SUMMARY:Theatergruppe "De Plattdütschen"
DESCRIPTION:De Plattdütschen speelen 2025\n„WG-Wohnsinn“ von Claudia Gysel\nLilo (Kerrin Eggers) \, Evi (Alice Gonnsen) und Franz (Karl-Hermann Schmidt) alle drei nicht mehr ganz jung \, teilen sich seit Jahren eine WG. Sie sind beste Freude und haben leider alle mit dem jeweils anderen Geschlecht nicht wirklich Glück.\nDas suchen sie dann im Glücksspiel. Sie spielen seit vielen Jahren gemeinsam Lotto\, allerdings mit genauso wenig Erfolg.\nDoch dann schlägt das Glück zu: Ein Lottogewinn und eine unerwartet fette Erbschaft. Da aber beide Glückfälle auf unglückselige Weise miteinander verknüpft sind\, verhalten sich die WG-Bewohner/innen plötzlich alle etwas seltsam.\nIn dieses Durcheinander platzen dann auch noch die Erbtante von Fanz Hermine (Tina Koplin) \, der Beauftragte vom Nachlassgericht Oskar Müller (Hauke Friedrichsen) und der Chat Partner von Evi (Daniel Krützfeld).\nOb die WG wieder in ruhigeres Wasser kommt\, ist abzuwarten. Das kann man sich im Andersen Haus in Klockries an folgenden Terminen ansehen.\nAls Topuster ist Silke Friedrichsen dabei.\n\nMittwoch\, 15.10.2025 um 20.00 Uhr öffentliche Generalprobe\n\nSonntag\, 19.10.2025 um 15.30 Uhr Premiere\nDonerstag\, 23.10.2025 um 20.00 Uhr\nSonntag\, 26.10.2025 um 15.30 Uhr\nMittwoch\, 29.10.2025 um 20.00 Uhr\nSonntag\, 02.11.2025 um 15.30 Uhr\nDienstag\, 04.11.2025 um 20.00 Uhr\nSonntag\, 09.11.2025 um 15.30 Uhr\nMittwoch\, 12.11.2025 um 20.00 Uhr\nSonntag\, 16.11.2025 um 15.30 Uhr\nDonnerstag\, 20.11.2025 um 20.00 Uhr\nSamstag\, 22.11.2025 um 15.30 Uhr\nSamstag\, 29.11.2025 um 15.30 Uhr\nSonntag\, 30.11.2025 um 15.30 Uhr\n\nEinlass ist am Wochenende ab 14.00 Uhr und Abends ab 19.00 Uhr.\n\nDie Platzkarten kosten unverändert 5 Euro und sind bei folgenden Verkaufsstellen zu erwerben (bitte bestellte Karten auch abholen )\nBäckerpost Brigitte Jannsen\, Risum-Lindholm\nBücherstube Dennis Leu\, Niebüll\nAndersen Haus Büro 04661-2291 Mo\, Di\, Do\, Fr. von 9.00 – 11.00 Uhr\noder per E-Mail\n\nWir freuen uns auf die kommende Saison und auf euch\nDe Plattdütschen\nKartenvorverkauf ab September 2025
URL:https://andersen-hues.de/veranstaltung/theatergruppe-de-plattduetschen/2025-10-26/
LOCATION:Andersen-Hüs
CATEGORIES:Theater
ATTACH;FMTTYPE=image/jpeg:https://andersen-hues.de/wp-content/uploads/IMG_3556.jpg-Internet.jpg
END:VEVENT
BEGIN:VEVENT
DTSTART;TZID=Europe/Berlin:20251023T200000
DTEND;TZID=Europe/Berlin:20251023T213000
DTSTAMP:20260426T043019
CREATED:20250728T085445Z
LAST-MODIFIED:20250812T075856Z
UID:10000164-1761249600-1761255000@andersen-hues.de
SUMMARY:Theatergruppe "De Plattdütschen"
DESCRIPTION:De Plattdütschen speelen 2025\n„WG-Wohnsinn“ von Claudia Gysel\nLilo (Kerrin Eggers) \, Evi (Alice Gonnsen) und Franz (Karl-Hermann Schmidt) alle drei nicht mehr ganz jung \, teilen sich seit Jahren eine WG. Sie sind beste Freude und haben leider alle mit dem jeweils anderen Geschlecht nicht wirklich Glück.\nDas suchen sie dann im Glücksspiel. Sie spielen seit vielen Jahren gemeinsam Lotto\, allerdings mit genauso wenig Erfolg.\nDoch dann schlägt das Glück zu: Ein Lottogewinn und eine unerwartet fette Erbschaft. Da aber beide Glückfälle auf unglückselige Weise miteinander verknüpft sind\, verhalten sich die WG-Bewohner/innen plötzlich alle etwas seltsam.\nIn dieses Durcheinander platzen dann auch noch die Erbtante von Fanz Hermine (Tina Koplin) \, der Beauftragte vom Nachlassgericht Oskar Müller (Hauke Friedrichsen) und der Chat Partner von Evi (Daniel Krützfeld).\nOb die WG wieder in ruhigeres Wasser kommt\, ist abzuwarten. Das kann man sich im Andersen Haus in Klockries an folgenden Terminen ansehen.\nAls Topuster ist Silke Friedrichsen dabei.\n\nMittwoch\, 15.10.2025 um 20.00 Uhr öffentliche Generalprobe\n\nSonntag\, 19.10.2025 um 15.30 Uhr Premiere\nDonerstag\, 23.10.2025 um 20.00 Uhr\nSonntag\, 26.10.2025 um 15.30 Uhr\nMittwoch\, 29.10.2025 um 20.00 Uhr\nSonntag\, 02.11.2025 um 15.30 Uhr\nDienstag\, 04.11.2025 um 20.00 Uhr\nSonntag\, 09.11.2025 um 15.30 Uhr\nMittwoch\, 12.11.2025 um 20.00 Uhr\nSonntag\, 16.11.2025 um 15.30 Uhr\nDonnerstag\, 20.11.2025 um 20.00 Uhr\nSamstag\, 22.11.2025 um 15.30 Uhr\nSamstag\, 29.11.2025 um 15.30 Uhr\nSonntag\, 30.11.2025 um 15.30 Uhr\n\nEinlass ist am Wochenende ab 14.00 Uhr und Abends ab 19.00 Uhr.\n\nDie Platzkarten kosten unverändert 5 Euro und sind bei folgenden Verkaufsstellen zu erwerben (bitte bestellte Karten auch abholen )\nBäckerpost Brigitte Jannsen\, Risum-Lindholm\nBücherstube Dennis Leu\, Niebüll\nAndersen Haus Büro 04661-2291 Mo\, Di\, Do\, Fr. von 9.00 – 11.00 Uhr\noder per E-Mail\n\nWir freuen uns auf die kommende Saison und auf euch\nDe Plattdütschen\nKartenvorverkauf ab September 2025
URL:https://andersen-hues.de/veranstaltung/theatergruppe-de-plattduetschen/2025-10-23/
LOCATION:Andersen-Hüs
CATEGORIES:Theater
ATTACH;FMTTYPE=image/jpeg:https://andersen-hues.de/wp-content/uploads/IMG_3556.jpg-Internet.jpg
END:VEVENT
BEGIN:VEVENT
DTSTART;TZID=Europe/Berlin:20251011T200000
DTEND;TZID=Europe/Berlin:20251011T220000
DTSTAMP:20260426T043019
CREATED:20250729T083033Z
LAST-MODIFIED:20250825T080144Z
UID:10000178-1760212800-1760220000@andersen-hues.de
SUMMARY:Jens Wagner mit Comedy op Platt
DESCRIPTION:Jens Wagner ist ein beliebter plattdeutscher Comedian aus Norddeutschland\,\nder mit humorvollen Geschichten aus seinem Leben begeistert.\nSeine authentische Art und vielfältigen Rollen sorgen für viel Lachen und gute\nStimmung. Sein Programm erinnert an die Gemütlichkeit alter Zeiten und\nspricht alle Generationen an.
URL:https://andersen-hues.de/veranstaltung/jens-wagner-comedy-op-platt/
LOCATION:Andersen-Hüs
CATEGORIES:für alle
ATTACH;FMTTYPE=image/jpeg:https://andersen-hues.de/wp-content/uploads/Unbenannt-2-002.jpg
END:VEVENT
BEGIN:VEVENT
DTSTART;TZID=Europe/Berlin:20251005T110000
DTEND;TZID=Europe/Berlin:20251005T170000
DTSTAMP:20260426T043019
CREATED:20250729T080122Z
LAST-MODIFIED:20250729T080122Z
UID:10000177-1759662000-1759683600@andersen-hues.de
SUMMARY:Herbstmarkt
DESCRIPTION:Der diesjährige Herbstmarkt beginnt am\nSamstag\, den 4. Okt. von 14.00 – 17.00 Uhr. \nAm Sonntag\, den 5.Okt. um 10.00 Uhr findet ein Erntedank Gottesdienst im Zelt am Andersen-Hüs statt.\nUm 11.00 – 17.00 Uhr dann der Herbstmarkt.\nMittags bietet der Landfrauenverein Risum-Lindholm Weinsuppe und Schinken an.
URL:https://andersen-hues.de/veranstaltung/herbstmarkt/2025-10-05/
LOCATION:Andersen-Hüs
CATEGORIES:für alle
END:VEVENT
BEGIN:VEVENT
DTSTART;TZID=Europe/Berlin:20251004T140000
DTEND;TZID=Europe/Berlin:20251004T170000
DTSTAMP:20260426T043019
CREATED:20250729T080122Z
LAST-MODIFIED:20250729T080122Z
UID:10000176-1759586400-1759597200@andersen-hues.de
SUMMARY:Herbstmarkt
DESCRIPTION:Der diesjährige Herbstmarkt beginnt am\nSamstag\, den 4. Okt. von 14.00 – 17.00 Uhr. \nAm Sonntag\, den 5.Okt. um 10.00 Uhr findet ein Erntedank Gottesdienst im Zelt am Andersen-Hüs statt.\nUm 11.00 – 17.00 Uhr dann der Herbstmarkt.\nMittags bietet der Landfrauenverein Risum-Lindholm Weinsuppe und Schinken an.
URL:https://andersen-hues.de/veranstaltung/herbstmarkt/2025-10-04/
LOCATION:Andersen-Hüs
CATEGORIES:für alle
END:VEVENT
BEGIN:VEVENT
DTSTART;TZID=Europe/Berlin:20250927T140000
DTEND;TZID=Europe/Berlin:20250927T170000
DTSTAMP:20260426T043019
CREATED:20250721T083029Z
LAST-MODIFIED:20250721T083029Z
UID:10000161-1758981600-1758992400@andersen-hues.de
SUMMARY:Modenschau "Boutique Wilhelmine"
DESCRIPTION:Am Tag der Modenschau mit Second-Hand-Mode\nvon der Boutique Wilhelmine in Niebüll kannst du\nab 14 Uhr mit Kaffee oder einem erfrischenden\nGetränk entspannen. Nach der Modenschau besteht\ndie Möglichkeit\, die schönen Second-Hand-Mode-Teile\ndirekt zu kaufen. Es ist sicher eine schöne Gelegenheit\,\nstilvoll und nachhaltig einzukaufen und gleichzeitig eine\nangenehme Zeit zu verbringen.
URL:https://andersen-hues.de/veranstaltung/modenschau-boutique-wilhelmine/
LOCATION:Andersen-Hüs
CATEGORIES:für alle
END:VEVENT
BEGIN:VEVENT
DTSTART;TZID=Europe/Berlin:20250920T200000
DTEND;TZID=Europe/Berlin:20250920T220000
DTSTAMP:20260426T043019
CREATED:20250721T082142Z
LAST-MODIFIED:20250825T075404Z
UID:10000160-1758398400-1758405600@andersen-hues.de
SUMMARY:PAUL EASTHAM & FINLAY WELLS
DESCRIPTION:Paul Eastham und Finlay Wells von COAST gehen 2025\nmit ihrer Duo-Tour „Travels & Tales“ auf eine emotionale\nReise durch keltischen Folk\, Rock und akustische Klänge\nein besonderes Konzerterlebnis voller Leidenschaft\nund Geschichten.
URL:https://andersen-hues.de/veranstaltung/paul-eastham-finlay-wells/
LOCATION:Andersen-Hüs
CATEGORIES:Konzert
ATTACH;FMTTYPE=image/jpeg:https://andersen-hues.de/wp-content/uploads/Eastham-002.jpg
END:VEVENT
BEGIN:VEVENT
DTSTART;TZID=Europe/Berlin:20250906T200000
DTEND;TZID=Europe/Berlin:20250906T220000
DTSTAMP:20260426T043019
CREATED:20250721T080807Z
LAST-MODIFIED:20250721T080807Z
UID:10000159-1757188800-1757196000@andersen-hues.de
SUMMARY:Marv and the Anvils
DESCRIPTION:4 Jungs\, 4 Instrumente und jede Menge Rock´n Roll.\nGemeinsam stehen sie als Band und als Freunde auf\nder Bühne\, um mit voller Leidenschaft zusammen zu\nmusizieren. Ganz im Sinne „back to the roots“ bieten\nMarv & the Anvils Rock´n Roll und bodenständigen\nBlues der 50er Jahre ohne Schnörkel
URL:https://andersen-hues.de/veranstaltung/marv-and-the-anvils/
LOCATION:Andersen-Hüs
CATEGORIES:Konzert
ATTACH;FMTTYPE=image/jpeg:https://andersen-hues.de/wp-content/uploads/Marv-and-the-Anvils-1.jpg
END:VEVENT
BEGIN:VEVENT
DTSTART;TZID=Europe/Berlin:20250830T200000
DTEND;TZID=Europe/Berlin:20250830T220000
DTSTAMP:20260426T043019
CREATED:20250721T080033Z
LAST-MODIFIED:20250721T080033Z
UID:10000158-1756584000-1756591200@andersen-hues.de
SUMMARY:BLOOZ
DESCRIPTION:Fünf erfahrene Musiker\, leidenschaftlich für Blues\, Rock und Funk\,\nbegeistern mit einer Soul-Blues-Stimme und grooviger Rhythmusgruppe.\nMit viel Bühnen- und Stilvielfalt widmen sie sich nun der „Blue Note“\nMusik für ein mitreißendes Erlebnis.
URL:https://andersen-hues.de/veranstaltung/blooz/
LOCATION:Andersen-Hüs
CATEGORIES:Konzert
ATTACH;FMTTYPE=image/jpeg:https://andersen-hues.de/wp-content/uploads/IMG_6607.jpg
END:VEVENT
END:VCALENDAR